BEGIN:VCALENDAR
PRODID:-//AT Content Types//AT Event//EN
VERSION:2.0
METHOD:PUBLISH
BEGIN:VEVENT
DTSTAMP:20260423T194432Z
CREATED:20160307T153921Z
UID:ATEvent-2d2b4f05cbd148d89dd91779b1a222ad
LAST-MODIFIED:20160307T153947Z
SUMMARY:Il fisco dopo la Legge delega\, spiegato dall'Agenzia.
DTSTART:20160323T133000Z
DTEND:20160323T163000Z
DESCRIPTION:L'interpello e la consulenza giuridica
LOCATION:Milano
CLASS:PUBLIC
END:VEVENT
END:VCALENDAR
