BEGIN:VCALENDAR
PRODID:-//AT Content Types//AT Event//EN
VERSION:1.0
BEGIN:VEVENT
DTSTART:20171010T123000Z
DTEND:20171010T150000Z
DCREATED:20170925T131224Z
UID:ATEvent-a8b4f5630bf94618a61dbd6bbe594ddb
SEQUENCE:0
LAST-MODIFIED:20170925T131233Z
SUMMARY:Il Dottorato di Ricerca Industriale
DESCRIPTION:Forme e strumenti di collaborazione tra atenei e imprese
LOCATION:Milano
PRIORITY:3
TRANSP:0
END:VEVENT
END:VCALENDAR
