BEGIN:VCALENDAR
PRODID:-//AT Content Types//AT Event//EN
VERSION:1.0
BEGIN:VEVENT
DTSTART:20180704T123000Z
DTEND:20180704T153000Z
DCREATED:20180626T133206Z
UID:ATEvent-007b8441fb6148638e85710fd81699ca
SEQUENCE:0
LAST-MODIFIED:20180626T133214Z
SUMMARY:Il distacco: aspetti normativi e gestionali
DESCRIPTION:Problemi e soluzioni per il distacco dei lavoratori all'es
 tero - Focus Francia e Svizzera.
LOCATION:Milano
PRIORITY:3
TRANSP:0
END:VEVENT
END:VCALENDAR
