BEGIN:VCALENDAR
PRODID:-//AT Content Types//AT Event//EN
VERSION:2.0
METHOD:PUBLISH
BEGIN:VEVENT
DTSTAMP:20260421T082847Z
CREATED:20190523T110516Z
UID:ATEvent-de0978615025499f9d5ac152e293b8dc
LAST-MODIFIED:20190523T110530Z
SUMMARY:Il Decreto “SBLOCCACANTIERI” e le altre novita' in materia di Appalti Pubblici
DTSTART:20190605T073000Z
DTEND:20190605T110000Z
LOCATION:Milano
CLASS:PUBLIC
END:VEVENT
END:VCALENDAR
