BEGIN:VCALENDAR
PRODID:-//AT Content Types//AT Event//EN
VERSION:2.0
METHOD:PUBLISH
BEGIN:VEVENT
DTSTAMP:20260422T184545Z
CREATED:20161118T143447Z
UID:ATEvent-654757b1a0de4bbda49f810a7067f1ba
LAST-MODIFIED:20161118T152542Z
SUMMARY:Il DDL sulla responsabilità civile in Sanità. Quali prospettive?
DTSTART:20161130T090000Z
DTEND:20161130T110000Z
LOCATION:Milano
CLASS:PUBLIC
END:VEVENT
END:VCALENDAR
