BEGIN:VCALENDAR
PRODID:-//AT Content Types//AT Event//EN
VERSION:1.0
BEGIN:VEVENT
DTSTART:20241203T093000Z
DTEND:20241203T113000Z
DCREATED:20241125T092541Z
UID:ATEvent-992107c2b0d04e1b9774f000a9dd1fbf
SEQUENCE:0
LAST-MODIFIED:20241126T135217Z
SUMMARY:Il Cuore del progresso: capitale umano al passo con la Twin Transition
LOCATION:Milano
PRIORITY:3
TRANSP:0
END:VEVENT
END:VCALENDAR
