BEGIN:VCALENDAR
PRODID:-//AT Content Types//AT Event//EN
VERSION:2.0
METHOD:PUBLISH
BEGIN:VEVENT
DTSTAMP:20260424T053713Z
CREATED:20190604T154447Z
UID:ATEvent-8265ec9f999044a6ac3d31ff0a5b95e4
LAST-MODIFIED:20190604T154452Z
SUMMARY:Il coraggio delle scelte - Assemblea Generale 2019 Confindustria Pavia
DTSTART:20190617T083000Z
DTEND:20190617T110000Z
DESCRIPTION:La forza del territorio di fronte alle sfide decisive
LOCATION:Pavia
CLASS:PUBLIC
END:VEVENT
END:VCALENDAR
