BEGIN:VCALENDAR
PRODID:-//AT Content Types//AT Event//EN
VERSION:1.0
BEGIN:VEVENT
DTSTART:20231214T090000Z
DTEND:20231214T103000Z
DCREATED:20231124T141013Z
UID:ATEvent-b60b59873dd24de1af8a728846b24a99
SEQUENCE:0
LAST-MODIFIED:20231212T155654Z
SUMMARY:Il controllo a distanza e la tutela della privacy nel mondo del lavoro che cambia
DESCRIPTION:Analisi dei contenuti delle due normative e degli aspetti 
 operativi con l’Ispettorato del Lavoro.
LOCATION:Online
PRIORITY:3
TRANSP:0
END:VEVENT
END:VCALENDAR
