BEGIN:VCALENDAR
PRODID:-//AT Content Types//AT Event//EN
VERSION:2.0
METHOD:PUBLISH
BEGIN:VEVENT
DTSTAMP:20260424T080824Z
CREATED:20151006T112646Z
UID:ATEvent-19e73d1506fd4c07a3305695b5451eb3
LAST-MODIFIED:20151013T100233Z
SUMMARY:Il contratto internazionale di vendita\, appalto e distribuzione: le clausole ricorrenti
DTSTART:20151015T080000Z
DTEND:20151015T110000Z
DESCRIPTION:L’incontro mira ad esaminare la “check list” dei pri
 ncipali contratti internazionali con l’analisi delle principali clau
 sole\, un confronto tra i contratti più diffusi\, e le cautele da ado
 ttare per l’operatore italiano.
LOCATION:Milano
CLASS:PUBLIC
END:VEVENT
END:VCALENDAR
