BEGIN:VCALENDAR
PRODID:-//AT Content Types//AT Event//EN
VERSION:2.0
METHOD:PUBLISH
BEGIN:VEVENT
DTSTAMP:20260424T053112Z
CREATED:20161017T154247Z
UID:ATEvent-5e4d2a640110489494162db137e1d054
LAST-MODIFIED:20161017T154301Z
SUMMARY:Il collocamento dei lavoratori disabili: normativa e aspetti operativi
DTSTART:20161026T123000Z
DTEND:20161026T153000Z
DESCRIPTION:Principali contenuti e novità della Legge n. 68/99.
LOCATION:Monza
CLASS:PUBLIC
END:VEVENT
END:VCALENDAR
