BEGIN:VCALENDAR
PRODID:-//AT Content Types//AT Event//EN
VERSION:1.0
BEGIN:VEVENT
DTSTART:20221020T080000Z
DTEND:20221020T100000Z
DCREATED:20221010T090912Z
UID:ATEvent-7f3cba610076480597cf7cab0aabb102
SEQUENCE:0
LAST-MODIFIED:20221010T150809Z
SUMMARY:Il codice di nomenclatura doganale delle merci: istruzioni per l'uso
LOCATION:Online
PRIORITY:3
TRANSP:0
END:VEVENT
END:VCALENDAR
