BEGIN:VCALENDAR
PRODID:-//AT Content Types//AT Event//EN
VERSION:1.0
BEGIN:VEVENT
DTSTART:20170516T073000Z
DTEND:20170516T110000Z
DCREATED:20170427T200936Z
UID:ATEvent-652afad37c0b48679152074c2656077e
SEQUENCE:0
LAST-MODIFIED:20170427T200954Z
SUMMARY:Il codice appalti: l'attuazione a un anno dall'entrata in vigore
LOCATION:Milano
PRIORITY:3
TRANSP:0
END:VEVENT
END:VCALENDAR
