BEGIN:VCALENDAR
PRODID:-//AT Content Types//AT Event//EN
VERSION:1.0
BEGIN:VEVENT
DTSTART:20230928T120000Z
DTEND:20230928T150000Z
DCREATED:20230921T153601Z
UID:ATEvent-80a88b872cd44e2bbf2242ed3285fe80
SEQUENCE:0
LAST-MODIFIED:20230922T144151Z
SUMMARY:Il Bilancio di sostenibilità tra obblighi e opportunità: quali scenari per le PMI
DESCRIPTION:un aiuto alle PMI ad orientarsi nel complesso tema della s
 ostenibilità\, in continua evoluzione
LOCATION:Brescia
PRIORITY:3
TRANSP:0
END:VEVENT
END:VCALENDAR
