BEGIN:VCALENDAR
PRODID:-//AT Content Types//AT Event//EN
VERSION:2.0
METHOD:PUBLISH
BEGIN:VEVENT
DTSTAMP:20260421T082808Z
CREATED:20220708T080521Z
UID:ATEvent-c3c6a4f2d9794f57acaa9396ef51880f
LAST-MODIFIED:20220708T081559Z
SUMMARY:Il bando LIFE: come finanziare il tuo progetto green
DTSTART:20220719T080000Z
DTEND:20220719T090000Z
LOCATION:On line
CLASS:PUBLIC
END:VEVENT
END:VCALENDAR
