BEGIN:VCALENDAR
PRODID:-//AT Content Types//AT Event//EN
VERSION:2.0
METHOD:PUBLISH
BEGIN:VEVENT
DTSTAMP:20260423T002651Z
CREATED:20210416T121313Z
UID:ATEvent-6896f955f02e4590959f5cdec548accc
LAST-MODIFIED:20210416T121436Z
SUMMARY:I° Convegno sulla sostenibilità integrata e cooperazione
DTSTART:20210420T083000Z
DTEND:20210420T110000Z
LOCATION:On line
CLASS:PUBLIC
END:VEVENT
END:VCALENDAR
