BEGIN:VCALENDAR
PRODID:-//AT Content Types//AT Event//EN
VERSION:2.0
METHOD:PUBLISH
BEGIN:VEVENT
DTSTAMP:20260424T140206Z
CREATED:20240219T114330Z
UID:ATEvent-a69ae985a3de4280a8d4cafe68f46c65
LAST-MODIFIED:20240219T114334Z
SUMMARY:Idee e percorsi per costruire un brand di successo
DTSTART:20240226T160000Z
DTEND:20240226T173000Z
DESCRIPTION:Il Gruppo Media\, Comunicazione e Spettacolo di Assolombar
 da propone all’aziende associate un Toolkit composto da un insieme c
 urato di strumenti\, materiali\, esempi e testimonianze per facilitare
  la formulazione di strategie di comunicazione efficaci e coerenti con
  i propri obiettivi aziendali.
LOCATION:Milano
CLASS:PUBLIC
END:VEVENT
END:VCALENDAR
