BEGIN:VCALENDAR
PRODID:-//AT Content Types//AT Event//EN
VERSION:1.0
BEGIN:VEVENT
DTSTART:20240408T070000Z
DTEND:20240408T090000Z
DCREATED:20240227T163854Z
UID:ATEvent-208ddf8980694973a1d8e012c390bf5d
SEQUENCE:0
LAST-MODIFIED:20240227T163902Z
SUMMARY:Icebreaker: incontro con i nuovi associati del Gruppo Giovani a Monza
LOCATION:Monza
PRIORITY:3
TRANSP:0
END:VEVENT
END:VCALENDAR
