BEGIN:VCALENDAR
PRODID:-//AT Content Types//AT Event//EN
VERSION:2.0
METHOD:PUBLISH
BEGIN:VEVENT
DTSTAMP:20260424T230359Z
CREATED:20230920T093648Z
UID:ATEvent-2f3df87be445479ab866711d039e76e4
LAST-MODIFIED:20230921T091244Z
SUMMARY:Icebreaker
DTSTART:20230926T063000Z
DTEND:20230926T080000Z
LOCATION:Monza
CLASS:PUBLIC
END:VEVENT
END:VCALENDAR
