BEGIN:VCALENDAR
PRODID:-//AT Content Types//AT Event//EN
VERSION:1.0
BEGIN:VEVENT
DTSTART:20200728T080000Z
DTEND:20200728T093000Z
DCREATED:20200724T134906Z
UID:ATEvent-cb98c41486664e9b880b8378e594fce8
SEQUENCE:0
LAST-MODIFIED:20200724T134912Z
SUMMARY:I vantaggi del MEPA in applicazione del Decreto Rilancio
LOCATION:Webinar
PRIORITY:3
TRANSP:0
END:VEVENT
END:VCALENDAR
