BEGIN:VCALENDAR
PRODID:-//AT Content Types//AT Event//EN
VERSION:2.0
METHOD:PUBLISH
BEGIN:VEVENT
DTSTAMP:20260424T080256Z
CREATED:20210907T080817Z
UID:ATEvent-24d1e8db5f2d472c926ebafd1628df91
LAST-MODIFIED:20210907T083813Z
SUMMARY:I salotti del welfare
DTSTART:20210915T080000Z
DTEND:20210915T090000Z
DESCRIPTION:Incontri on line gratuiti
LOCATION:On line
CLASS:PUBLIC
END:VEVENT
END:VCALENDAR
