BEGIN:VCALENDAR
PRODID:-//AT Content Types//AT Event//EN
VERSION:2.0
METHOD:PUBLISH
BEGIN:VEVENT
DTSTAMP:20260425T183727Z
CREATED:20161019T124153Z
UID:ATEvent-826114bf6bbc46c48ecb1097777df5ee
LAST-MODIFIED:20161019T124243Z
SUMMARY:I principali contratti di lavoro subordinato alla luce del Jobs Act
DTSTART:20161108T133000Z
DTEND:20161108T163000Z
LOCATION:Milano
CLASS:PUBLIC
END:VEVENT
END:VCALENDAR
