BEGIN:VCALENDAR
PRODID:-//AT Content Types//AT Event//EN
VERSION:2.0
METHOD:PUBLISH
BEGIN:VEVENT
DTSTAMP:20260421T083335Z
CREATED:20220321T184200Z
UID:ATEvent-f3dd3e97d5534c718a49615d481f5431
LAST-MODIFIED:20220321T184445Z
SUMMARY:I partenariati in Horizon Europe: struttura\, novitÃ  e opportunitÃ . Focus sul cluster 4
DTSTART:20220324T140000Z
DTEND:20220324T160000Z
DESCRIPTION:Primo appuntamento del ciclo di webinar organizzato nellâ€
 ™ambito dei programmi di finanziamento a gestione diretta\, in partico
 lare del Programma Horizon Europe.
CLASS:PUBLIC
END:VEVENT
END:VCALENDAR
