BEGIN:VCALENDAR
PRODID:-//AT Content Types//AT Event//EN
VERSION:1.0
BEGIN:VEVENT
DTSTART:20161026T073000Z
DTEND:20161026T120000Z
DCREATED:20161019T092628Z
UID:ATEvent-fa530c32bd234bb7ba0cdc8f6bd2ddf8
SEQUENCE:0
LAST-MODIFIED:20161019T092928Z
SUMMARY:I parchi industriali russi: business conference e b2b
LOCATION:Bergamo
PRIORITY:3
TRANSP:0
END:VEVENT
END:VCALENDAR
