BEGIN:VCALENDAR
PRODID:-//AT Content Types//AT Event//EN
VERSION:2.0
METHOD:PUBLISH
BEGIN:VEVENT
DTSTAMP:20260424T081745Z
CREATED:20180216T133215Z
UID:ATEvent-c631e8f38fca4d1ab41927e6050429fa
LAST-MODIFIED:20180216T133220Z
SUMMARY:I nuovi strumenti offerti da Sace per l’internazionalizzazione delle imprese
DTSTART:20180222T080000Z
DTEND:20180222T163000Z
DESCRIPTION:Incontri one to one
LOCATION:Cremona/Crema
CLASS:PUBLIC
END:VEVENT
END:VCALENDAR
