BEGIN:VCALENDAR
PRODID:-//AT Content Types//AT Event//EN
VERSION:1.0
BEGIN:VEVENT
DTSTART:20161026T123000Z
DTEND:20161026T150000Z
DCREATED:20161017T155713Z
UID:ATEvent-94ae88492dc94c13bae934170d3f6967
SEQUENCE:0
LAST-MODIFIED:20161017T160023Z
SUMMARY:I nuovi incentivi regionali per il 2017
DESCRIPTION:anteprima su innovazione e acquisto macchinari
LOCATION:Milano
PRIORITY:3
TRANSP:0
END:VEVENT
END:VCALENDAR
