BEGIN:VCALENDAR
PRODID:-//AT Content Types//AT Event//EN
VERSION:2.0
METHOD:PUBLISH
BEGIN:VEVENT
DTSTAMP:20260421T122600Z
CREATED:20230519T160007Z
UID:ATEvent-3b19fbe9e45643f9a90277c36272679c
LAST-MODIFIED:20230621T003204Z
SUMMARY:I numeri per le risorse umane: i risultati delle indagini Confindustria sul lavoro come strumento per gli HR manager
DTSTART:20230620T090000Z
DTEND:20230620T101500Z
CONTACT:Marcello Panzone\, m.panzone@confindustria.lombardia.it
CLASS:PUBLIC
END:VEVENT
END:VCALENDAR
