BEGIN:VCALENDAR
PRODID:-//AT Content Types//AT Event//EN
VERSION:1.0
BEGIN:VEVENT
DTSTART:20230712T150000Z
DTEND:20230712T163000Z
DCREATED:20230711T095339Z
UID:ATEvent-5bc4ed9620c84b3db87443b0a2b2b778
SEQUENCE:0
LAST-MODIFIED:20230711T103654Z
SUMMARY:I giovani\, il lavoro e la cultura d'impresa
DESCRIPTION:Evento organizzato nel palinsesto di Pavia Capitale della 
 Cultura d'Impresa. Presentazione della survey promossa da Assolombarda
 \, in collaborazione con Intesa San Paolo.
LOCATION:Pavia
PRIORITY:3
TRANSP:0
END:VEVENT
END:VCALENDAR
