BEGIN:VCALENDAR
PRODID:-//AT Content Types//AT Event//EN
VERSION:2.0
METHOD:PUBLISH
BEGIN:VEVENT
DTSTAMP:20260424T041122Z
CREATED:20230606T095053Z
UID:ATEvent-df923f35c10e4b54936fbe56c184c2f1
LAST-MODIFIED:20230629T085137Z
SUMMARY:I finanziamenti europei per startup e PMI
DTSTART:20230627T090000Z
DTEND:20230627T103000Z
DESCRIPTION:Webinar informativo sulle opportunità di finanziamento eu
 ropeo rivolte a startup e PMI per progetti innovativi (collaborativi e
  non)
LOCATION:On line
CLASS:PUBLIC
END:VEVENT
END:VCALENDAR
