BEGIN:VCALENDAR
PRODID:-//AT Content Types//AT Event//EN
VERSION:1.0
BEGIN:VEVENT
DTSTART:20171012T073000Z
DTEND:20171012T103000Z
DCREATED:20170927T155953Z
UID:ATEvent-12b3c2b251b74925aa9d913c8cbfe4a9
SEQUENCE:0
LAST-MODIFIED:20170927T160121Z
SUMMARY:I contratti internazionali di agenzia\, distribuzione e vendita
DESCRIPTION:due incontri: uno il 12/10 ed il secondo il 19/10
LOCATION:Cremona
PRIORITY:3
TRANSP:0
END:VEVENT
END:VCALENDAR
