BEGIN:VCALENDAR
PRODID:-//AT Content Types//AT Event//EN
VERSION:2.0
METHOD:PUBLISH
BEGIN:VEVENT
DTSTAMP:20260420T145210Z
CREATED:20170925T102709Z
UID:ATEvent-c0cac250b6c84bc3865d62148317b2f3
LAST-MODIFIED:20170925T104621Z
SUMMARY:I contratti di agenzia e distribuzione
DTSTART:20171003T080000Z
DTEND:20171003T110000Z
DESCRIPTION:vecchi e nuovi orientamenti nei mercati mondiali
LOCATION:Monza
CLASS:PUBLIC
END:VEVENT
END:VCALENDAR
