BEGIN:VCALENDAR
PRODID:-//AT Content Types//AT Event//EN
VERSION:2.0
METHOD:PUBLISH
BEGIN:VEVENT
DTSTAMP:20260422T185941Z
CREATED:20190923T140839Z
UID:ATEvent-3bada62ece844bba8ec73b3f7385ba17
LAST-MODIFIED:20190923T140847Z
SUMMARY:How to work with the British National Health Service
DTSTART:20191004T080000Z
DTEND:20191004T110000Z
LOCATION:Milano
CLASS:PUBLIC
END:VEVENT
END:VCALENDAR
