BEGIN:VCALENDAR
PRODID:-//AT Content Types//AT Event//EN
VERSION:1.0
BEGIN:VEVENT
DTSTART:20151014T083000Z
DTEND:20151014T110000Z
DCREATED:20160411T110102Z
UID:ATEvent-44f236200f914a7bbeb298caa93b5116
SEQUENCE:0
LAST-MODIFIED:20160411T112141Z
SUMMARY:Horizon 2020
DESCRIPTION:Contributi a fondo perso per avvicinare le imprese all’E
 uropa
LOCATION:Lecco
PRIORITY:3
TRANSP:0
END:VEVENT
END:VCALENDAR
