BEGIN:VCALENDAR
PRODID:-//AT Content Types//AT Event//EN
VERSION:1.0
BEGIN:VEVENT
DTSTART:20190617T073000Z
DTEND:20190617T153000Z
DCREATED:20190606T161637Z
UID:ATEvent-37e520d194e74de7b055b03973a06760
SEQUENCE:0
LAST-MODIFIED:20190606T161646Z
SUMMARY:HORIZON 2020 – Progetti di Ricerca e innovazione per le Fabbriche Intelligenti
LOCATION:Bergamo
PRIORITY:3
TRANSP:0
END:VEVENT
END:VCALENDAR
