BEGIN:VCALENDAR
PRODID:-//AT Content Types//AT Event//EN
VERSION:1.0
BEGIN:VEVENT
DTSTART:20241015T073000Z
DTEND:20241015T100000Z
DCREATED:20240925T100048Z
UID:ATEvent-66bd463ea8914da9a920f18314869112
SEQUENCE:0
LAST-MODIFIED:20240925T120042Z
SUMMARY:GreenOrDeal: la laboriosa via della sostenibilità
DESCRIPTION:L'incontro\, settimo appuntamento del ciclo GreenOrDeal: l
 a laboriosa via della sostenibilità \, pone all'attenzione delle azie
 nde associate e non il tema sempre più attuale della comunicazione de
 lla sostenibilità.
LOCATION:Brescia
PRIORITY:3
TRANSP:0
END:VEVENT
END:VCALENDAR
