BEGIN:VCALENDAR
PRODID:-//AT Content Types//AT Event//EN
VERSION:1.0
BEGIN:VEVENT
DTSTART:20210916T130000Z
DTEND:20210916T160000Z
DCREATED:20210909T151041Z
UID:ATEvent-bacffe0fb413460480eed19c3bc2441e
SEQUENCE:0
LAST-MODIFIED:20210910T083819Z
SUMMARY:Green marketing e miglioramento dell’immagine aziendale
DESCRIPTION:2° incontro del percorso formativo gratuito di “Energy 
 management"
LOCATION:On line
PRIORITY:3
TRANSP:0
END:VEVENT
END:VCALENDAR
