BEGIN:VCALENDAR
PRODID:-//AT Content Types//AT Event//EN
VERSION:1.0
BEGIN:VEVENT
DTSTART:20231010T092000Z
DTEND:20231013T120000Z
DCREATED:20230721T095634Z
UID:ATEvent-87dc99bdb6f34ff488c9774baf5899ce
SEQUENCE:0
LAST-MODIFIED:20230921T082306Z
SUMMARY:Green Days at Pollutec show 2023
DESCRIPTION:L'evento di matchmaking organizzato nell’ambito dell’e
 dizione 2023 di Pollutec\, fiera internazionale di riferimento per le 
 soluzioni ambientali ed energetiche
LOCATION:Lione (Francia)
PRIORITY:3
TRANSP:0
END:VEVENT
END:VCALENDAR
