BEGIN:VCALENDAR
PRODID:-//AT Content Types//AT Event//EN
VERSION:1.0
BEGIN:VEVENT
DTSTART:20220421T143000Z
DTEND:20220421T160000Z
DCREATED:20220420T155707Z
UID:ATEvent-ba14a2d5852f44adb464c87d743a4bb7
SEQUENCE:0
LAST-MODIFIED:20220420T155959Z
SUMMARY:Governare la Digital Health nel sistema salute: l’impatto sulla governance del SSN
LOCATION:On line
PRIORITY:3
TRANSP:0
END:VEVENT
END:VCALENDAR
