BEGIN:VCALENDAR
PRODID:-//AT Content Types//AT Event//EN
VERSION:2.0
METHOD:PUBLISH
BEGIN:VEVENT
DTSTAMP:20260422T155203Z
CREATED:20250326T221536Z
UID:ATEvent-b8b0ea3eeaad4e61b6249c0fafae2577
LAST-MODIFIED:20250326T221540Z
SUMMARY:GOVERNANCE: uno sguardo al pilastro ESG dimenticato
DTSTART:20250331T140000Z
DTEND:20250331T160000Z
DESCRIPTION:L'incontro si propone di illustrare i principali risultati
  di un'indagine condotta dal Centro Studi e dall'Ordine dei Commercial
 isti di Brescia (ODCEC) sull'implementazione delle pratiche di governa
 nce fra le imprese bresciane. La tavola rotonda vedrà la partecipazio
 ne di importanti esponenti del mondo imprenditoriale\, associativo\, b
 ancario e professionale.
LOCATION:Brescia
CLASS:PUBLIC
END:VEVENT
END:VCALENDAR
