BEGIN:VCALENDAR
PRODID:-//AT Content Types//AT Event//EN
VERSION:2.0
METHOD:PUBLISH
BEGIN:VEVENT
DTSTAMP:20260424T092200Z
CREATED:20230925T120741Z
UID:ATEvent-ab60dd46b8434090a6a0f4c7682305c7
LAST-MODIFIED:20230926T170827Z
SUMMARY:Governance e continuità generazionale nelle PMI
DTSTART:20231003T150000Z
DTEND:20231003T163000Z
DESCRIPTION:Terzo incontro: “Valore infinito - A ogni impresa la pro
 pria governance”
LOCATION:Bergamo e Online
CLASS:PUBLIC
END:VEVENT
END:VCALENDAR
