BEGIN:VCALENDAR
PRODID:-//AT Content Types//AT Event//EN
VERSION:2.0
METHOD:PUBLISH
BEGIN:VEVENT
DTSTAMP:20260421T082909Z
CREATED:20190527T120424Z
UID:ATEvent-2d6df80ab8dc4fe1acec8e6b935a00a8
LAST-MODIFIED:20190527T120445Z
SUMMARY:Gli strumenti per un controllo di gestione economico - finanziario “quick & dirty”
DTSTART:20190605T080000Z
DTEND:20190605T110000Z
LOCATION:Milano e Monza
CLASS:PUBLIC
END:VEVENT
END:VCALENDAR
