BEGIN:VCALENDAR
PRODID:-//AT Content Types//AT Event//EN
VERSION:1.0
BEGIN:VEVENT
DTSTART:20160707T070000Z
DTEND:20160708T110000Z
DCREATED:20160621T153602Z
UID:ATEvent-1475c6ca0d2d4046a46c9da57d573399
SEQUENCE:0
LAST-MODIFIED:20160621T154135Z
SUMMARY:Gli strumenti finanziari UE per sostenere crescita\, competitività e innovazione delle PMI
LOCATION:Bruxelles (Belgium)
PRIORITY:3
TRANSP:0
END:VEVENT
END:VCALENDAR
