BEGIN:VCALENDAR
PRODID:-//AT Content Types//AT Event//EN
VERSION:1.0
BEGIN:VEVENT
DTSTART:20161108T143000Z
DTEND:20161108T173000Z
DCREATED:20161103T170427Z
UID:ATEvent-06ced9f64b2f4e03bd7bacd8f6e87029
SEQUENCE:0
LAST-MODIFIED:20161103T170453Z
SUMMARY:Gli strumenti di pagamento nelle transazioni internazionali
LOCATION:Busto Arsizio (VA)
PRIORITY:3
TRANSP:0
END:VEVENT
END:VCALENDAR
