BEGIN:VCALENDAR
PRODID:-//AT Content Types//AT Event//EN
VERSION:1.0
BEGIN:VEVENT
DTSTART:20191007T123000Z
DTEND:20191007T150000Z
DCREATED:20190923T143715Z
UID:ATEvent-0424c2f2b2924ea2a4ce6d876dab81de
SEQUENCE:0
LAST-MODIFIED:20190923T143738Z
SUMMARY:Gli ostacoli del commercio internazionale
DESCRIPTION:Dazi\, tariffe\, barriere non tariffarie\, rappresaglie ec
 onomiche e sanzioni. Come operare?
LOCATION:Monza
PRIORITY:3
TRANSP:0
END:VEVENT
END:VCALENDAR
