BEGIN:VCALENDAR
PRODID:-//AT Content Types//AT Event//EN
VERSION:2.0
METHOD:PUBLISH
BEGIN:VEVENT
DTSTAMP:20260421T104821Z
CREATED:20170316T152059Z
UID:ATEvent-b65dd862bbe449d890171c0b4677cde7
LAST-MODIFIED:20170316T152441Z
SUMMARY:Gli aspetti fiscali nel commercio elettronico
DTSTART:20170411T070000Z
DTEND:20170411T110000Z
LOCATION:Legnano (MI)
CLASS:PUBLIC
END:VEVENT
END:VCALENDAR
