BEGIN:VCALENDAR
PRODID:-//AT Content Types//AT Event//EN
VERSION:1.0
BEGIN:VEVENT
DTSTART:20160706T133000Z
DTEND:20160706T163000Z
DCREATED:20160622T103930Z
UID:ATEvent-fb1e92d45de0409bacd75124a4071a24
SEQUENCE:0
LAST-MODIFIED:20160701T130509Z
SUMMARY:Gli adempimenti doganali e gli accordi commerciali con l'estero
DESCRIPTION:quarto incontro del ciclo "Internazionalizzarsi per compet
 ere al meglio 4.0".
LOCATION:Bergamo
PRIORITY:3
TRANSP:0
END:VEVENT
END:VCALENDAR
