BEGIN:VCALENDAR
PRODID:-//AT Content Types//AT Event//EN
VERSION:1.0
BEGIN:VEVENT
DTSTART:20200115T163000Z
DTEND:20200115T193000Z
DCREATED:20200110T150342Z
UID:ATEvent-8dea6f4aaf904cd0ae3aac792e58312f
SEQUENCE:0
LAST-MODIFIED:20200110T150456Z
SUMMARY:Giovani Imprenditori a confronto con il Comandante GdF - Colonnello Salvatore Russo
LOCATION:Brescia
PRIORITY:3
TRANSP:0
END:VEVENT
END:VCALENDAR
