BEGIN:VCALENDAR
PRODID:-//AT Content Types//AT Event//EN
VERSION:1.0
BEGIN:VEVENT
DTSTART:20250919T080000Z
DTEND:20250919T093000Z
DCREATED:20250716T150130Z
UID:ATEvent-6c7099faf03e4ad8a1d1c51614b065f3
SEQUENCE:0
LAST-MODIFIED:20250718T145343Z
SUMMARY:Giovani e Imprese: apprendistato\, stage e agevolazioni
DESCRIPTION:L'incontro ha la finalità di dare una panoramica per inse
 rire i giovani in azienda relativamente alle disposizioni di Legge e a
 lle agevolazioni contributive in vigore.
LOCATION:Online
PRIORITY:3
TRANSP:0
END:VEVENT
END:VCALENDAR
