BEGIN:VCALENDAR
PRODID:-//AT Content Types//AT Event//EN
VERSION:1.0
BEGIN:VEVENT
DTSTART:20240611T070000Z
DTEND:20240611T113000Z
DCREATED:20240321T142828Z
UID:ATEvent-f85313068903480a8d7929a36d836244
SEQUENCE:0
LAST-MODIFIED:20240321T142852Z
SUMMARY:GGI Academy - Suggerimenti su come impostare una strategia di internazionalizzazione aziendale
DESCRIPTION:Corso di formazione dedicato ai Giovani Imprenditori
LOCATION:Milano
PRIORITY:3
TRANSP:0
END:VEVENT
END:VCALENDAR
