BEGIN:VCALENDAR
PRODID:-//AT Content Types//AT Event//EN
VERSION:2.0
METHOD:PUBLISH
BEGIN:VEVENT
DTSTAMP:20260424T064932Z
CREATED:20240321T154645Z
UID:ATEvent-aee3a91d59984f558e3ce3428c890eac
LAST-MODIFIED:20240321T154726Z
SUMMARY:GGI Academy - ESG Rating: cos’è e quando può essere utile
DTSTART:20240702T070000Z
DTEND:20240702T113000Z
LOCATION:Milano
CLASS:PUBLIC
END:VEVENT
END:VCALENDAR
