BEGIN:VCALENDAR
PRODID:-//AT Content Types//AT Event//EN
VERSION:1.0
BEGIN:VEVENT
DTSTART:20151014T150000Z
DTEND:20151014T164500Z
DCREATED:20151005T160107Z
UID:ATEvent-38b086062f084d75bfac4d117c7aa40c
SEQUENCE:0
LAST-MODIFIED:20151005T160431Z
SUMMARY:Gestire in sicurezza i propri crediti commerciali
DESCRIPTION:A seguito delle convenzioni stipulate da Unindustria Como 
 con Cerved\, per il servizio di informazioni\, e con Euler Hermes\, in
 termediario Selecover\, per l’assicurazione dei crediti\, l'Associaz
 ione organizza questo seminario.
LOCATION:Como
PRIORITY:3
TRANSP:0
END:VEVENT
END:VCALENDAR
